BEGIN:VCALENDAR
VERSION:2.0
PRODID:-//eeb-bodensee.de//NONSGML kigkonsult.se iCalcreator 2.41.92//
CALSCALE:GREGORIAN
METHOD:PUBLISH
UID:34313735-3533-4933-b633-616238633166
X-WR-TIMEZONE:Europe/Berlin
X-LIC-LOCATION:Europe/Berlin
BEGIN:VTIMEZONE
TZID:Europe/Berlin
BEGIN:DAYLIGHT
TZOFFSETFROM:+0100
TZOFFSETTO:+0200
TZNAME:CEST
DTSTART:19700329T020000
RRULE:FREQ=YEARLY;BYDAY=-1SU;BYMONTH=3
END:DAYLIGHT
BEGIN:STANDARD
TZOFFSETFROM:+0200
TZOFFSETTO:+0100
TZNAME:CET
DTSTART:19701025T030000
RRULE:FREQ=YEARLY;BYDAY=-1SU;BYMONTH=10
END:STANDARD
END:VTIMEZONE
BEGIN:VEVENT
UID:31366564-6434-4162-b138-333065393732
DTSTAMP:20260421T205407Z
DESCRIPTION:Wie denken Männer über Frauen? Wie handeln Männer gegenüber Fra
 uen? Wie gelingt das Zusammenleben?\n \n Veranstaltungsort:\n Pfarrhaus am
  See\n Grabenstr. 2\n 88662 Überlingen\n \n Veranstalter:\n Evangelische E
 rwachsenenbildung Bodensee\n Grabenstr. 2\n 88662 Überlingen\n Telefon: 07
 551 9537 32\n eeb-bodensee.de
DTSTART;TZID=Europe/Berlin:20261130T193000
DTEND;TZID=Europe/Berlin:20261130T193000
LOCATION:Pfarrhaus am See\n - Grabenstr. 2\n - 88662 Überlingen
SUMMARY:Manns.bilder - Orange Days
X-ALT-DESC;FMTTYPE=text/html:Wie denken Männer über Frauen? Wie handeln Män
 ner gegenüber Frauen? Wie gelingt das Zusammenleben?<br /><br />Veranstalt
 ungsort: <br />Pfarrhaus am See<br />Grabenstr. 2<br />88662 Überlingen<br
  /><br />Veranstalter: <br />Evangelische Erwachsenenbildung Bodensee<br /
 >Grabenstr. 2<br />88662 Überlingen<br />Telefon: 07551 9537 32<br />eeb-b
 odensee.de
END:VEVENT
END:VCALENDAR
